BEGIN:VCALENDAR
VERSION:2.0
PRODID:-//Visit Banská Bystrica - ECPv4.9.14.1//NONSGML v1.0//EN
CALSCALE:GREGORIAN
METHOD:PUBLISH
X-WR-CALNAME:Visit Banská Bystrica
X-ORIGINAL-URL:https://www.visitbanskabystrica.sk/de/
X-WR-CALDESC:Veranstaltungen im Visit Banská Bystrica
BEGIN:VTIMEZONE
TZID:UTC
BEGIN:STANDARD
TZOFFSETFROM:+0000
TZOFFSETTO:+0000
TZNAME:UTC
DTSTART:20260101T000000
END:STANDARD
END:VTIMEZONE
BEGIN:VEVENT
DTSTART;TZID=UTC:20260101T160000
DTEND;TZID=UTC:20260101T160000
DTSTAMP:20260426T011747
CREATED:20251216T083005Z
LAST-MODIFIED:20251216T083005Z
UID:400341-1767283200-1767283200@www.visitbanskabystrica.sk
SUMMARY:Novoročná pyromuzikálna show
DESCRIPTION: \nPozývame na oslavy Dňa vzniku Slovenskej republiky a nového roku: \n16.00 h Lukáš Adamec s kapelou \n17.00 h pyromuzikálna show \n
URL:https://www.visitbanskabystrica.sk/de/event/novorocna-pyromuzikalna-show-2/
ATTACH;FMTTYPE=image/png:https://www.visitbanskabystrica.sk/wp-content/uploads/2025/12/Zalohovane-pohare.png
END:VEVENT
END:VCALENDAR