BEGIN:VCALENDAR
VERSION:2.0
PRODID:-//Visit Banská Bystrica - ECPv4.9.14.1//NONSGML v1.0//EN
CALSCALE:GREGORIAN
METHOD:PUBLISH
X-WR-CALNAME:Visit Banská Bystrica
X-ORIGINAL-URL:https://www.visitbanskabystrica.sk/en/
X-WR-CALDESC:Events for Visit Banská Bystrica
BEGIN:VTIMEZONE
TZID:UTC
BEGIN:STANDARD
TZOFFSETFROM:+0000
TZOFFSETTO:+0000
TZNAME:UTC
DTSTART:20260101T000000
END:STANDARD
END:VTIMEZONE
BEGIN:VEVENT
DTSTART;TZID=UTC:20260303T180000
DTEND;TZID=UTC:20260304T000000
DTSTAMP:20260425T192712
CREATED:20260218T093401Z
LAST-MODIFIED:20260218T093401Z
UID:402117-1772560800-1772582400@www.visitbanskabystrica.sk
SUMMARY:Banská Bystrica – Cestou necestou a Expedičná kamera – 3 prednášky + 8 filmov
DESCRIPTION:Príďte na Cestou necestou do Múzea SNP v Banskej Bystrici a zažite Afriku na bicykli s Lacom Branickým\, zimné jazdenie v Britskej Kolumbií s Tomášom Hossom a Pyreneje pešo s Michalom Knitlom. Osem filmov Expedičnej kamery 2026 vás zavedie do Himalájí\, Patagónie\, Bhutánu\, Sahary\, Grónska aj Kirgizska a ukáže\, čo znamená hľadať hranice\, vytrvalosť a slobodu v divokej prírode aj vnútri človeka. \n
URL:https://www.visitbanskabystrica.sk/en/event/banska-bystrica-cestou-necestou-a-expedicna-kamera-3-prednasky-8-filmov/
ATTACH;FMTTYPE=image/jpeg:https://www.visitbanskabystrica.sk/wp-content/uploads/2026/02/plagat-2026-03-03-BB.jpg
END:VEVENT
END:VCALENDAR