BEGIN:VCALENDAR
VERSION:2.0
PRODID:-//Visit Banská Bystrica - ECPv4.9.14.1//NONSGML v1.0//EN
CALSCALE:GREGORIAN
METHOD:PUBLISH
X-WR-CALNAME:Visit Banská Bystrica
X-ORIGINAL-URL:https://www.visitbanskabystrica.sk/en/
X-WR-CALDESC:Events for Visit Banská Bystrica
BEGIN:VTIMEZONE
TZID:UTC
BEGIN:STANDARD
TZOFFSETFROM:+0000
TZOFFSETTO:+0000
TZNAME:UTC
DTSTART:20260101T000000
END:STANDARD
END:VTIMEZONE
BEGIN:VEVENT
DTSTART;TZID=UTC:20260402T090000
DTEND;TZID=UTC:20260402T190000
DTSTAMP:20260425T180356
CREATED:20260309T063957Z
LAST-MODIFIED:20260316T085144Z
UID:402527-1775120400-1775156400@www.visitbanskabystrica.sk
SUMMARY:Deň povedomia o autizme v Banskej Bystrici
DESCRIPTION: \nObčianske združenie SPOSA BB v spolupráci s mestom Banská Bystrica vás srdečne pozýva na podujatia pri príležitosti Svetového dňa povedomia o autizme\, ktoré sa uskutočnia 2. apríla 2026 v priestoroch Europa SC Banská Bystrica. \nPočas celého dňa od 9:00 do 19:00 bude pre návštevníkov pripravený program\, ktorý priblíži svet ľudí s autizmom. Tešiť sa môžete na talentovú show\, detský kútik\, informačný stánok\, prezentáciu výrobkov našich členov a tiež na simulátor autizmu\, ktorý umožní návštevníkom zažiť niektoré z podnetov\, s ktorými sa ľudia na spektre stretávajú v každodennom živote. \nVyvrcholením dňa bude sviečkový Pochod modrou Banskou Bystricou\, ktorý sa začne o 19:00 pri Europa SC. Spoločne prejdeme mestom k mestskému úradu a podujatie symbolicky ukončíme pri Pamätníku SNP. Významné budovy v meste budú pri tejto príležitosti vysvietené na modro – farbou\, ktorá symbolizuje porozumenie a podporu ľudí s autizmom. \nCieľom podujatia je priblížiť verejnosti život ľudí na autistickom spektre\, podporiť prijatie\, porozumenie a inklúziu v našej spoločnosti. \nPríďte s nami stráviť deň plný zážitkov\, informácií a solidarity a večer sa zapojiť do symbolického pochodu mestom. \nUkážme spolu\, že Banská Bystrica je mestom\, kde si vážime každú jedinečnosť. \nSpoločnosť na pomoc osobám s autizmom v Banskej Bystrici \n
URL:https://www.visitbanskabystrica.sk/en/event/den-povedomia-o-autizme-v-banskej-bystrici/
CATEGORIES:Another
ATTACH;FMTTYPE=image/jpeg:https://www.visitbanskabystrica.sk/wp-content/uploads/2026/03/dpoa.jpg
END:VEVENT
END:VCALENDAR