BEGIN:VCALENDAR
VERSION:2.0
PRODID:-//Visit Banská Bystrica - ECPv4.9.14.1//NONSGML v1.0//EN
CALSCALE:GREGORIAN
METHOD:PUBLISH
X-WR-CALNAME:Visit Banská Bystrica
X-ORIGINAL-URL:https://www.visitbanskabystrica.sk/en/
X-WR-CALDESC:Events for Visit Banská Bystrica
BEGIN:VTIMEZONE
TZID:UTC
BEGIN:STANDARD
TZOFFSETFROM:+0000
TZOFFSETTO:+0000
TZNAME:UTC
DTSTART:20260101T000000
END:STANDARD
END:VTIMEZONE
BEGIN:VEVENT
DTSTART;VALUE=DATE:20260401
DTEND;VALUE=DATE:20260501
DTSTAMP:20260425T152930
CREATED:20221027T123507Z
LAST-MODIFIED:20260330T075135Z
UID:389391-1775001600-1777593599@www.visitbanskabystrica.sk
SUMMARY:Divadlo pod balkónom - program na APRÍL 2026
DESCRIPTION:Divadlo pod balkónom si pre Vás a Vaše deti pripravilo zaujímavý program aj na APRÍL 2026. \n \n  \n
URL:https://www.visitbanskabystrica.sk/en/event/divadlo-pod-balkonom-program-na-november/
CATEGORIES:Music, dance, theater
ATTACH;FMTTYPE=image/jpeg:https://www.visitbanskabystrica.sk/wp-content/uploads/2022/10/IMG_5112-700x430-1-300x300.jpg
END:VEVENT
END:VCALENDAR