BEGIN:VCALENDAR
VERSION:2.0
PRODID:-//Visit Banská Bystrica - ECPv4.9.14.1//NONSGML v1.0//EN
CALSCALE:GREGORIAN
METHOD:PUBLISH
X-WR-CALNAME:Visit Banská Bystrica
X-ORIGINAL-URL:https://www.visitbanskabystrica.sk/en/
X-WR-CALDESC:Events for Visit Banská Bystrica
BEGIN:VTIMEZONE
TZID:UTC
BEGIN:STANDARD
TZOFFSETFROM:+0000
TZOFFSETTO:+0000
TZNAME:UTC
DTSTART:20260101T000000
END:STANDARD
END:VTIMEZONE
BEGIN:VEVENT
DTSTART;VALUE=DATE:20260401
DTEND;VALUE=DATE:20260501
DTSTAMP:20260425T164701
CREATED:20221027T112923Z
LAST-MODIFIED:20260401T132028Z
UID:389380-1775001600-1777593599@www.visitbanskabystrica.sk
SUMMARY:Filmový klub v Múzeu SNP – program na APRÍL 2026
DESCRIPTION:Filmový klub v Múzeu SNP Vás pozýva na aprílové premietania. \n \n  \n  \n
URL:https://www.visitbanskabystrica.sk/en/event/filmovy-klub-v-muzeu-snp-program-november/
CATEGORIES:Another
ATTACH;FMTTYPE=image/jpeg:https://www.visitbanskabystrica.sk/wp-content/uploads/2022/10/film-g72fc8ff0c_1920.jpg
END:VEVENT
END:VCALENDAR