BEGIN:VCALENDAR
VERSION:2.0
PRODID:-//Visit Banská Bystrica - ECPv4.9.14.1//NONSGML v1.0//EN
CALSCALE:GREGORIAN
METHOD:PUBLISH
X-WR-CALNAME:Visit Banská Bystrica
X-ORIGINAL-URL:https://www.visitbanskabystrica.sk/en/
X-WR-CALDESC:Events for Visit Banská Bystrica
BEGIN:VTIMEZONE
TZID:UTC
BEGIN:STANDARD
TZOFFSETFROM:+0000
TZOFFSETTO:+0000
TZNAME:UTC
DTSTART:20260101T000000
END:STANDARD
END:VTIMEZONE
BEGIN:VEVENT
DTSTART;TZID=UTC:20260409T173000
DTEND;TZID=UTC:20260409T173000
DTSTAMP:20260425T193734
CREATED:20260401T090120Z
LAST-MODIFIED:20260401T090120Z
UID:403371-1775755800-1775755800@www.visitbanskabystrica.sk
SUMMARY:Jarný SLOVOMfest 2026
DESCRIPTION: \nJar v Banskej Bystrici privítame umením! \nPozývame vás na ďalšie pokračovanie obľúbeného podujatia Jarný SLOVOMfest 2026\, kde sa slovo spája s hudbou a výtvarným umením. \nPríďte si vychutnať večer plný inšpirácie\, mladých talentov aj skúsených majstrov slova a tónov. Čaká vás poézia\, próza\, aforizmy a podmanivé vystúpenie hudobného kvarteta. \nKEDY: 9. apríla 2026 o 17:30 \nKDE: Robotnícky dom\, Banská Bystrica \nVSTUP: Voľný \nTešíme sa na vás! Zoberte priateľov a príďte načerpať jarnú umeleckú energiu. \nViac info na: www.generacianula.sk | www.banskabystrica.sk \n#BanskaBystrica #Slovomfest #GeneraciaNula #Umenie #Kultura #Poezia #Hudba \n
URL:https://www.visitbanskabystrica.sk/en/event/jarny-slovomfest-2026/
CATEGORIES:Another
ATTACH;FMTTYPE=image/jpeg:https://www.visitbanskabystrica.sk/wp-content/uploads/2026/03/9-jarny-slovomfest.jpg
END:VEVENT
END:VCALENDAR