BEGIN:VCALENDAR
VERSION:2.0
PRODID:-//Visit Banská Bystrica - ECPv4.9.14.1//NONSGML v1.0//EN
CALSCALE:GREGORIAN
METHOD:PUBLISH
X-WR-CALNAME:Visit Banská Bystrica
X-ORIGINAL-URL:https://www.visitbanskabystrica.sk/en/
X-WR-CALDESC:Events for Visit Banská Bystrica
BEGIN:VTIMEZONE
TZID:UTC
BEGIN:STANDARD
TZOFFSETFROM:+0000
TZOFFSETTO:+0000
TZNAME:UTC
DTSTART:20260101T000000
END:STANDARD
END:VTIMEZONE
BEGIN:VEVENT
DTSTART;TZID=UTC:20260401T080000
DTEND;TZID=UTC:20260430T170000
DTSTAMP:20260425T164230
CREATED:20260326T143910Z
LAST-MODIFIED:20260409T135549Z
UID:403159-1775030400-1777568400@www.visitbanskabystrica.sk
SUMMARY:Mestské divadlo Banská Bystrica - program na APRÍL 2026
DESCRIPTION: \n  \n
URL:https://www.visitbanskabystrica.sk/en/event/mestske-divadlo-banska-bystrica-program-na-april-2026/
CATEGORIES:Music, dance, theater
ATTACH;FMTTYPE=image/jpeg:https://www.visitbanskabystrica.sk/wp-content/uploads/2026/03/foto-1-scaled.jpg
END:VEVENT
END:VCALENDAR