BEGIN:VCALENDAR
VERSION:2.0
PRODID:-//Visit Banská Bystrica - ECPv4.9.14.1//NONSGML v1.0//EN
CALSCALE:GREGORIAN
METHOD:PUBLISH
X-WR-CALNAME:Visit Banská Bystrica
X-ORIGINAL-URL:https://www.visitbanskabystrica.sk/en/
X-WR-CALDESC:Events for Visit Banská Bystrica
BEGIN:VTIMEZONE
TZID:UTC
BEGIN:STANDARD
TZOFFSETFROM:+0000
TZOFFSETTO:+0000
TZNAME:UTC
DTSTART:20260101T000000
END:STANDARD
END:VTIMEZONE
BEGIN:VEVENT
DTSTART;TZID=UTC:20260314T160000
DTEND;TZID=UTC:20260314T160000
DTSTAMP:20260425T175420
CREATED:20260309T064716Z
LAST-MODIFIED:20260309T064758Z
UID:401934-1773504000-1773504000@www.visitbanskabystrica.sk
SUMMARY:Morena Metal Fest
DESCRIPTION: \nMorena Metal Fest je hudobný festival zameraný na žánre death\, black a folk metal\, ktorý sa uskutoční v Robotníckom dome v Banskej Bystrici. Festival ponúkne intenzívny koncertný program inšpirovaný tradíciou a súčasnou podobou metalovej scény. \nNa festivale vystúpia kapely Souls to Deny\, Realms of Chaos\, Antares\, Depresy a Silent Stream of Godless Elegy\, ktoré reprezentujú rôzne podoby metalu ako hudobného žánru. Dramaturgia podujatia je postavená na kontraste surového death metalu\, temnej expresivity black metalu a folklórne ladených metalových kompozícií\, čím festival vytvára ucelený a žánrovo vyhranený hudobný zážitok. \nNázov festivalu odkazuje na postavu Moreny\, symbolu zimy\, smrti a premeny\, ktorá tvorí základ tematickej a vizuálnej identity podujatia. Tento motív sa premieta do celkovej atmosféry festivalu a podporuje jeho umelecký charakter. \nPredpredaj: 20\,- € \nVstupné na mieste: 25\,- € \n  \n
URL:https://www.visitbanskabystrica.sk/en/event/morena-metal-fest/
CATEGORIES:Music, dance, theater
ATTACH;FMTTYPE=image/jpeg:https://www.visitbanskabystrica.sk/wp-content/uploads/2026/02/MorenaMF_plagat-2-scaled-1.jpg
END:VEVENT
END:VCALENDAR