BEGIN:VCALENDAR
VERSION:2.0
PRODID:-//Visit Banská Bystrica - ECPv4.9.14.1//NONSGML v1.0//EN
CALSCALE:GREGORIAN
METHOD:PUBLISH
X-WR-CALNAME:Visit Banská Bystrica
X-ORIGINAL-URL:https://www.visitbanskabystrica.sk
X-WR-CALDESC:Udalosti pre Visit Banská Bystrica
BEGIN:VTIMEZONE
TZID:UTC
BEGIN:STANDARD
TZOFFSETFROM:+0000
TZOFFSETTO:+0000
TZNAME:UTC
DTSTART:20250101T000000
END:STANDARD
END:VTIMEZONE
BEGIN:VEVENT
DTSTART;TZID=UTC:20251213T153000
DTEND;TZID=UTC:20251213T153000
DTSTAMP:20260426T022615
CREATED:20251128T063259Z
LAST-MODIFIED:20251128T063259Z
UID:399302-1765639800-1765639800@www.visitbanskabystrica.sk
SUMMARY:JAKOB FUGGER – jeho život a práca
DESCRIPTION: \nPRI PRÍLEŽITOSTI 500. VÝROČIA ÚMRTIA \nPríďte si vypočuť príbeh o najbohatšom človeku na svete\, o jeho živote\, práci a význame jeho aktivít pre rozvoj vtedajšieho aj súčasného sveta. \nRenesančnú hudbu na čembale nám zahrá Matúš Kucbel. \nTHURZO – FUGGER ZÁŽITKOVÁ EXPOZÍCIA \n13. a 20. decembra 2025 o 15:30 h \nVstupné na program: 2 € \nVstupné na program a do expozície po programe: 5 € \nVstupenky odporúčame zakúpiť vopred v THURZO – FUGGER zážitkovej expozícii. \nZmena programu vyhradená! \n
URL:https://www.visitbanskabystrica.sk/event/jakob-fugger-jeho-zivot-a-praca/
ATTACH;FMTTYPE=image/png:https://www.visitbanskabystrica.sk/wp-content/uploads/2025/11/Jakob-Fugger-jeho-zivot-a-praca-2.png
END:VEVENT
END:VCALENDAR